BEGIN:VCALENDAR
VERSION:2.0
PRODID:icalendar-ruby
CALSCALE:GREGORIAN
METHOD:PUBLISH
BEGIN:VEVENT
DTSTAMP:20260422T070608Z
UID:2-3801162@newjerusalem.tithelysetup2.com
DTSTART:20260905T030000Z
DTEND:20260905T040000Z
CLASS:PUBLIC
CREATED:20260421T165053
DESCRIPTION:
LAST-MODIFIED:20260421T165053
LOCATION:ZOOM/Phone 
SUMMARY:Congregational Bible Study
URL;VALUE=URI:https://newjerusalem.tithelysetup2.com/events/congregational-
 bible-study/2026-09-04
ATTACH;FILENAME=IMG_6867.JPG;FMTTYPE=image/jpeg:https://dq5pwpg1q8ru0.cloud
 front.net/2020/11/05/19/08/40/fba8612d-44bc-42f1-b956-803e728846d0/IMG_686
 7.JPG
END:VEVENT
END:VCALENDAR
